BEGIN:VCALENDAR
CALSCALE:GREGORIAN
METHOD:PUBLISH
PRODID:-//IT-On.NET//bielefeld.jetzt//DE
VERSION:2.0
BEGIN:VEVENT
CLASS:PUBLIC
CREATED:20260421T094726Z
DESCRIPTION:http://prod.bielefeld-marketing.rz-betrieb.de/node/1677886\n\nWir
 feiern Premiere in der Brauerei! Bei unserer ersten Mixed-Show in  
 \nBielefeld haben wir großartige Comedians zu Besuch. Freut Euch auf
 über 2   \nStunden lustige Unterhaltung. \nAbendkasse nur\, wenn noch
 Tickets verfügbar sind. \nMehr Infos auf Instagram: @comedyclubowl
 \nWebsite: https://comedyclubowl.my.canva.site/website \n  \n \n(Stand:
 21.04.2026)
DTEND:20260514T200000Z
DTSTAMP:20260330T124717Z
DTSTART:20260514T180000Z
GEO:51.987764;8.483665
LAST-MOD:20260330T124717Z
LOCATION:Bielefelder Braumanufaktur
STATUS:CONFIRMED
SUMMARY:Comedy Night - Bielefelder Brauerei
TRANSP:OPAQUE
UID:1677887
URL:http://prod.bielefeld-marketing.rz-betrieb.de/node/1677886
END:VEVENT
END:VCALENDAR
