BEGIN:VCALENDAR
CALSCALE:GREGORIAN
METHOD:PUBLISH
PRODID:-//IT-On.NET//bielefeld.jetzt//DE
VERSION:2.0
BEGIN:VEVENT
CLASS:PUBLIC
CREATED:20260420T105038Z
DESCRIPTION:http://prod.bielefeld-marketing.rz-betrieb.de/node/1635486\n\nTrauer
 gehört zum Leben – auch für Menschen mit kognitiven  
 \nBeeinträchtigungen. Doch wie zeigt sie sich? Wie können wir\, die  
 \nBegleitenden\, sie erkennen und verstehen? Und wie gestalten wir
 Begleitung   \nso\, dass sie Betroffene stärkt\, anstatt ihre
 Bedürfnisse unbeabsichtigt zu   \nübergehen? Dieses Seminar vermittelt
 kompaktes Basiswissen zu Trauer und   \nlädt zur Reflexion eigener
 Erfahrungen und Haltungen im Umgang mit Sterben\,   \nTod und Verlust ein.
 \n \nSie lernen die vielfältigen Facetten von Trauer kennen: Trauer als  
 \nindividuelle\, lebenslange sowie ganzheitliche Erfahrung und setzen sich
 mit   \nbesonderen Herausforderungen auseinander: missverstandene
 Reaktionen\,   \nabgesprochene Trauerfähigkeit oder verzögerte Trauer.
 Auch das   \nTodesverständnis in Abhängigkeit von kognitiver und
 emotionaler Entwicklung   \nsowie biografische Aspekte werden praxisnah
 beleuchtet. \n \nEin Schwerpunkt ist eine niedrigschwellige\,
 alltagstaugliche Methode zur   \nindividuellen Trauerbegleitung:
 „Integrative Trauerarbeit – das   \nVier-Schlüsselkonzept zur
 individuellen Begleitung“. Anhand von Beispielen   \nentwickeln Sie
 konkrete Handlungsmöglichkeiten für Ihr Arbeitsfeld. \nZudem wird die
 Kommunikation mit Angehörigen thematisiert: Wie gelingt ein  
 \nempathischer\, wertschätzender Dialog\, auch in konflikthaften
 Situationen? \nDas Seminar verbindet Fachwissen und Praxis – damit Sie
 Menschen mit   \nkognitiven Beeinträchtigungen achtsam und sicher durch
 Zeiten von Abschied   \nund Verlust begleiten können. \nInhalte: \n \n *
 Trauer als Teil des Lebens und eigene Haltungen im Umgang mit Verlust \n *
 Basiswissen zu Trauer und ihren verschiedenen Facetten \n *
 Sensibilisierung für Besonderheiten im Zusammenhang von Trauer bei \n  
 Menschen mit kognitiven Beeinträchtigungen \n * Einfluss von kognitiver
 und emotionaler Entwicklung auf das \n   Todesverständnis \n * Bedeutung
 biografischer Erfahrungen \n * Kennenlernen und Ausprobieren einer
 praxistauglichen Methode zur \n   individuellen Trauerbegleitung:
 „Integrative Trauerarbeit – das \n   Vier-Schlüsselkonzept zur
 individuellen Begleitung“ \n * Entwicklung konkreter
 Handlungsmöglichkeiten für den Alltag \n * Empathische und
 wertschätzende Kommunikation mit Angehörigen in Zeiten \n   der Krise \n
 \nZielgruppe: Mitarbeitende der Eingliederungshilfe\, Pflege- und
 pädagogische   \nFachkräfte sowie alle\, die Menschen mit kognitiven
 Beeinträchtigungen   \nbegleiten \nTeilnahmebeitrag: 29\,- Euro
 (gefördert aus Mitteln des Landes NRW;   \nMittagessen sowie Kaffee und
 Kuchen inklusive) \nReferentinnen: \n \n * Evelyn Dahlke\, Leitung
 ambulanter Dienst Hospiz- und Palliativ-Verein \n   Gütersloh\,
 langjährige Erfahrung in der Eingliederungshilfe \n * Mareike Neumayer\,
 Trauerbegleiterin im Hospiz- und Palliativ-Verein \n   Gütersloh\,
 Übersetzerin für Leichte Sprache \n \n(Stand: 20.04.2026)
DTEND:20260505T143000Z
DTSTAMP:20260310T110221Z
DTSTART:20260505T070000Z
GEO:52.009689;8.480644
LAST-MOD:20260310T110221Z
LOCATION:Einschlingen
STATUS:CONFIRMED
SUMMARY:Trauer bei Menschen mit kognitiven Beeinträchtigungen
TRANSP:OPAQUE
UID:1635487
URL:http://prod.bielefeld-marketing.rz-betrieb.de/node/1635486
END:VEVENT
END:VCALENDAR
