BEGIN:VCALENDAR
CALSCALE:GREGORIAN
METHOD:PUBLISH
PRODID:-//IT-On.NET//bielefeld.jetzt//DE
VERSION:2.0
BEGIN:VEVENT
CLASS:PUBLIC
CREATED:20260420T112046Z
DESCRIPTION:http://prod.bielefeld-marketing.rz-betrieb.de/node/1621506\n\nDie
 Kita befindet sich neben der Einfahrt auf dem Johanneswerkgelände in  
 \nNähe des Krankenhauses Ev.Klinikum Bethel- Johannesstift.
 \nVeranstaltungsort: Familienzentrum Johannesstift Kita Pappelhof \n
 \n(Stand: 20.04.2026)
DTEND:20260509T131500Z
DTSTAMP:20260303T181443Z
DTSTART:20260509T101500Z
GEO:52.049700;8.518100
LAST-MOD:20260303T181443Z
LOCATION:Bielefeld-Schildesche
STATUS:CONFIRMED
SUMMARY:Vorsortierter Kinderflohmarkt
TRANSP:OPAQUE
UID:1621507
URL:http://prod.bielefeld-marketing.rz-betrieb.de/node/1621506
END:VEVENT
END:VCALENDAR
