BEGIN:VCALENDAR
CALSCALE:GREGORIAN
METHOD:PUBLISH
PRODID:-//IT-On.NET//bielefeld.jetzt//DE
VERSION:2.0
BEGIN:VEVENT
CLASS:PUBLIC
CREATED:20260420T123605Z
DESCRIPTION:http://prod.bielefeld-marketing.rz-betrieb.de/node/1621489\n\nLeitung:
 Doris Wienstroth \n \nTreffpunkt: Wanderparkplatz an der
 Elbeallee\, Ecke Senner Hellweg \n \n(Stand: 20.04.2026)
DTEND:20260503T120000Z
DTSTAMP:20260303T152038Z
DTSTART:20260503T090000Z
GEO:51.946110;8.584800
LAST-MOD:20260303T152038Z
LOCATION:Bielefeld-Sennestadt
STATUS:CONFIRMED
SUMMARY:Wanderung um den Brunsberg
TRANSP:OPAQUE
UID:1621490
URL:http://prod.bielefeld-marketing.rz-betrieb.de/node/1621489
END:VEVENT
END:VCALENDAR
