BEGIN:VCALENDAR
CALSCALE:GREGORIAN
METHOD:PUBLISH
PRODID:-//IT-On.NET//bielefeld.jetzt//DE
VERSION:2.0
BEGIN:VEVENT
CLASS:PUBLIC
CREATED:20260420T111415Z
DESCRIPTION:http://prod.bielefeld-marketing.rz-betrieb.de/node/1545758\n\nNicht
 immer ist ein großes Beet vorhanden\, dann ist Gärtnern auf dem Balkon  
 \neine tolle Sache. Insektenfreundliche Blumen sind eine lohnende
 Alternative   \nzu Geranien & Co. und eine wertvolle Ergänzung zum
 Balkongemüse. Wie   \nSelbstversorgung vom Balkon gelingt\, was zu
 beachten ist und wer sich gern   \nden Standort teilt\, das wollen wir
 besprechen. Bist du dabei? \n \n(Stand: 20.04.2026)
DTEND:20260424T153000Z
DTSTAMP:20260127T113238Z
DTSTART:20260424T140000Z
GEO:51.951300;8.478470
LAST-MOD:20260302T092315Z
LOCATION:Hof Ramsbrock
STATUS:CONFIRMED
SUMMARY:Gärtnern auf dem Balkon - wir planen zusammen eure Ernte
TRANSP:OPAQUE
UID:1545759
URL:http://prod.bielefeld-marketing.rz-betrieb.de/node/1545758
END:VEVENT
END:VCALENDAR
