BEGIN:VCALENDAR
CALSCALE:GREGORIAN
METHOD:PUBLISH
PRODID:-//IT-On.NET//bielefeld.jetzt//DE
VERSION:2.0
BEGIN:VEVENT
CLASS:PUBLIC
CREATED:20260420T111112Z
DESCRIPTION:http://prod.bielefeld-marketing.rz-betrieb.de/node/1537481\n\nMario
 Walters Tasting für Einsteiger und Fortgeschrittene wird abgerundet  
 \ndurch ein 3-Gänge Menü unseres Küchenchefs. Kulinarisch passend zum  
 \nWhisky. \n \nPauschalpreis inkl. Menü 100\,00 pro Person. \nAnmeldung
 erforderlich unter coastalboy@web.de \n \n(Stand: 20.04.2026)
DTEND:20260424T160000Z
DTSTAMP:20260123T124527Z
DTSTART:20260424T130000Z
GEO:52.021214;8.542855
LAST-MOD:20260123T124527Z
LOCATION:Hotel-Restaurant Bartsch
STATUS:CONFIRMED
SUMMARY:Whiskytasting
TRANSP:OPAQUE
UID:1537482
URL:http://prod.bielefeld-marketing.rz-betrieb.de/node/1537481
END:VEVENT
END:VCALENDAR
